BEGIN:VCALENDAR
VERSION:2.0
PRODID:-//Escuela de Sabor - Daniel Yranzo
CALSCALE:GREGORIAN
METHOD:PUBLISH
X-WR-CALNAME:Escuela de Sabor - Daniel Yranzo
X-ORIGINAL-URL:https://www.escueladesabor.com/producto/curso-de-cocina-italiana-pasta-fresca-y-mucho-mas/
X-WR-CALDESC:Curso de cocina italiana: Pasta fresca y mucho más.
BEGIN:VEVENT
DTSTART:20190221T200000
DTEND:20190221T223000
SUMMARY:Curso de cocina italiana: Pasta fresca y mucho más.
DESCRIPTION:
LOCATION:Calle Prudencio, 36, 50003 Zaragoza, España
END:VEVENT
END:VCALENDAR
