BEGIN:VCALENDAR
VERSION:2.0
PRODID:-//Escuela de Sabor - Daniel Yranzo
CALSCALE:GREGORIAN
METHOD:PUBLISH
X-WR-CALNAME:Escuela de Sabor - Daniel Yranzo
X-ORIGINAL-URL:https://www.escueladesabor.com/producto/postres-de-restaurante-en-casa-deliciosos-y-espectaculares-3a-edicion/
X-WR-CALDESC:Postres de restaurante en casa: deliciosos y espectaculares-3ª edición
BEGIN:VEVENT
DTSTART:20190115T190000
DTEND:20190115T213000
SUMMARY:Postres de restaurante en casa: deliciosos y espectaculares-3ª edición
DESCRIPTION:
LOCATION:Calle Prudencio, 36, 50003 Zaragoza, España
END:VEVENT
END:VCALENDAR
