BEGIN:VCALENDAR
VERSION:2.0
PRODID:-//Escuela de Sabor - Daniel Yranzo
CALSCALE:GREGORIAN
METHOD:PUBLISH
X-WR-CALNAME:Escuela de Sabor - Daniel Yranzo
X-ORIGINAL-URL:https://www.escueladesabor.com/producto/curso-intensivo-de-corte-cocina-creativa-de-jamon-de-teruel-d-o/
X-WR-CALDESC:Curso intensivo de corte &#038; cocina creativa de Jamón de Teruel D.O.
BEGIN:VEVENT
DTSTART:20190513T000000
DTEND:20190515T000000
SUMMARY:Curso intensivo de corte &#038; cocina creativa de Jamón de Teruel D.O.
DESCRIPTION:
LOCATION:Calle Prudencio, 36, 50003 Zaragoza, España
END:VEVENT
END:VCALENDAR
