BEGIN:VCALENDAR
VERSION:2.0
PRODID:-//Escuela de Sabor - Daniel Yranzo
CALSCALE:GREGORIAN
METHOD:PUBLISH
X-WR-CALNAME:Escuela de Sabor - Daniel Yranzo
X-ORIGINAL-URL:https://www.escueladesabor.com/producto/cooking-party-de-cocina-creativa-para-empresas-consultanos-si-quereis-celebrar-el-vuestro-copia-2/
X-WR-CALDESC:Cooking Party de cocina Creativa para empresas. ¡Consúltanos si queréis celebrar el vuestro! (copia)
BEGIN:VEVENT
DTSTART:20231003T200000
DTEND:20231003T223000
SUMMARY:Cooking Party de cocina Creativa para empresas. ¡Consúltanos si queréis celebrar el vuestro! (copia)
DESCRIPTION:
LOCATION:Calle Prudencio, 36, 50003 Zaragoza, España
END:VEVENT
END:VCALENDAR
